BEGIN:VCALENDAR
VERSION:2.0
PRODID:-//Loucomotiva - Grupo de Teatro de Taveiro - ECPv6.15.20//NONSGML v1.0//EN
CALSCALE:GREGORIAN
METHOD:PUBLISH
X-ORIGINAL-URL:https://www.teatrotaveiro.com
X-WR-CALDESC:Eventos para Loucomotiva - Grupo de Teatro de Taveiro
REFRESH-INTERVAL;VALUE=DURATION:PT1H
X-Robots-Tag:noindex
X-PUBLISHED-TTL:PT1H
BEGIN:VTIMEZONE
TZID:Europe/Lisbon
BEGIN:DAYLIGHT
TZOFFSETFROM:+0000
TZOFFSETTO:+0100
TZNAME:WEST
DTSTART:20250330T010000
END:DAYLIGHT
BEGIN:STANDARD
TZOFFSETFROM:+0100
TZOFFSETTO:+0000
TZNAME:WET
DTSTART:20251026T010000
END:STANDARD
BEGIN:DAYLIGHT
TZOFFSETFROM:+0000
TZOFFSETTO:+0100
TZNAME:WEST
DTSTART:20260329T010000
END:DAYLIGHT
BEGIN:STANDARD
TZOFFSETFROM:+0100
TZOFFSETTO:+0000
TZNAME:WET
DTSTART:20261025T010000
END:STANDARD
BEGIN:DAYLIGHT
TZOFFSETFROM:+0000
TZOFFSETTO:+0100
TZNAME:WEST
DTSTART:20270328T010000
END:DAYLIGHT
BEGIN:STANDARD
TZOFFSETFROM:+0100
TZOFFSETTO:+0000
TZNAME:WET
DTSTART:20271031T010000
END:STANDARD
END:VTIMEZONE
BEGIN:VEVENT
DTSTART;TZID=Europe/Lisbon:20260124T140000
DTEND;TZID=Europe/Lisbon:20260124T170000
DTSTAMP:20260422T105548
CREATED:20260119T181137Z
LAST-MODIFIED:20260119T181328Z
UID:16929-1769263200-1769274000@www.teatrotaveiro.com
SUMMARY:WORKSHOP DE ORIGAMI | com Ana Oliveira
DESCRIPTION:Aqui\, o papel não fica quieto! \nNo workshop de origami\, as crianças dobram\, inventam e transformam uma simples folha em animais\, objetos e histórias.Entre mãos curiosas e muita imaginação\, o origami torna-se jogo\, descoberta e expressão criativa. \nAshleigh Georgiou \nImagem: Ana Oliveira \n  \nValor Inscrição: 20€
URL:https://www.teatrotaveiro.com/evento/workshop-de-origami/
LOCATION:Teatro Taveiro\, Rua Nova da Estação\, nº 50\, Taveiro\, 3045-488 Coimbra
CATEGORIES:Formação
ATTACH;FMTTYPE=image/jpeg:https://www.teatrotaveiro.com/wp-content/uploads/2026/01/615471809_1471137385015114_2462106817262137451_n.jpg
ORGANIZER;CN="Loucomotiva":MAILTO:producao@teatrotaveiro.com
END:VEVENT
BEGIN:VEVENT
DTSTART;TZID=Europe/Lisbon:20260125T140000
DTEND;TZID=Europe/Lisbon:20260125T170000
DTSTAMP:20260422T105548
CREATED:20260119T181438Z
LAST-MODIFIED:20260119T181438Z
UID:16934-1769349600-1769360400@www.teatrotaveiro.com
SUMMARY:WORKSHOP DE ORIGAMI | com Ana Oliveira
DESCRIPTION:Aqui\, o papel não fica quieto! \nNo workshop de origami\, as crianças dobram\, inventam e transformam uma simples folha em animais\, objetos e histórias.Entre mãos curiosas e muita imaginação\, o origami torna-se jogo\, descoberta e expressão criativa. \nAshleigh Georgiou \nImagem: Ana Oliveira \n  \nValor Inscrição: 20€
URL:https://www.teatrotaveiro.com/evento/workshop-de-origami-com-ana-oliveira/
LOCATION:Teatro Taveiro\, Rua Nova da Estação\, nº 50\, Taveiro\, 3045-488 Coimbra
CATEGORIES:Formação
ATTACH;FMTTYPE=image/jpeg:https://www.teatrotaveiro.com/wp-content/uploads/2026/01/615471809_1471137385015114_2462106817262137451_n.jpg
ORGANIZER;CN="Loucomotiva":MAILTO:producao@teatrotaveiro.com
END:VEVENT
END:VCALENDAR