BEGIN:VCALENDAR
VERSION:2.0
PRODID:-//Loucomotiva - Grupo de Teatro de Taveiro - ECPv6.15.20//NONSGML v1.0//EN
CALSCALE:GREGORIAN
METHOD:PUBLISH
X-WR-CALNAME:Loucomotiva - Grupo de Teatro de Taveiro
X-ORIGINAL-URL:https://www.teatrotaveiro.com
X-WR-CALDESC:Eventos para Loucomotiva - Grupo de Teatro de Taveiro
REFRESH-INTERVAL;VALUE=DURATION:PT1H
X-Robots-Tag:noindex
X-PUBLISHED-TTL:PT1H
BEGIN:VTIMEZONE
TZID:Europe/Lisbon
BEGIN:DAYLIGHT
TZOFFSETFROM:+0000
TZOFFSETTO:+0100
TZNAME:WEST
DTSTART:20240331T010000
END:DAYLIGHT
BEGIN:STANDARD
TZOFFSETFROM:+0100
TZOFFSETTO:+0000
TZNAME:WET
DTSTART:20241027T010000
END:STANDARD
BEGIN:DAYLIGHT
TZOFFSETFROM:+0000
TZOFFSETTO:+0100
TZNAME:WEST
DTSTART:20250330T010000
END:DAYLIGHT
BEGIN:STANDARD
TZOFFSETFROM:+0100
TZOFFSETTO:+0000
TZNAME:WET
DTSTART:20251026T010000
END:STANDARD
BEGIN:DAYLIGHT
TZOFFSETFROM:+0000
TZOFFSETTO:+0100
TZNAME:WEST
DTSTART:20260329T010000
END:DAYLIGHT
BEGIN:STANDARD
TZOFFSETFROM:+0100
TZOFFSETTO:+0000
TZNAME:WET
DTSTART:20261025T010000
END:STANDARD
END:VTIMEZONE
BEGIN:VEVENT
DTSTART;TZID=Europe/Lisbon:20250920T213000
DTEND;TZID=Europe/Lisbon:20250920T223000
DTSTAMP:20260422T124924
CREATED:20250910T175348Z
LAST-MODIFIED:20250910T175348Z
UID:16802-1758403800-1758407400@www.teatrotaveiro.com
SUMMARY:Chiado Comedy Club | Humor Negro
DESCRIPTION:Vai dar início o ano letivo 2025/2026… e a primeira disciplina é Humor Negro. \nEnquanto os estudantes voltam às salas de aula\, o Chiado Comedy Club volta a Coimbra para abrir o ano com a única cadeira que devia ser obrigatória: rir da desgraça. \nAqui não há sebentas\, nem exames\, nem orais. Há só piadas pesadas\, verdades inconvenientes e gargalhadas que deviam dar negativa na pauta. \n  \nBilhete Geral: € 12 \nVenda na Ticketline: https://ticketline.sapo.pt/evento/chiado-comedy-club-humor-negro-93197/sessao/115440_1909_1758400200?fbclid=PAVERFWAMuk91leHRuA2FlbQIxMQABp5iQZ_bcpDoIC_yW6H7CuJv4nCx4jB8JQsfDkkB4P-JVtr-7pRPc9j_f_4kQ_aem_61ti1jOWNbYeyIxC4wC0Qw \n 
URL:https://www.teatrotaveiro.com/evento/chiado-comedy-club-humor-negro/
LOCATION:Teatro Taveiro\, Rua Nova da Estação\, nº 50\, Taveiro\, 3045-488 Coimbra
CATEGORIES:Stand up Comedy
ATTACH;FMTTYPE=image/jpeg:https://www.teatrotaveiro.com/wp-content/uploads/2025/09/e96175b6-45f5-4d2f-9b9a-15d4b8c0a228.jpeg
ORGANIZER;CN="Loucomotiva":MAILTO:producao@teatrotaveiro.com
END:VEVENT
END:VCALENDAR