BEGIN:VCALENDAR
VERSION:2.0
PRODID:-//Loucomotiva - Grupo de Teatro de Taveiro - ECPv6.15.20//NONSGML v1.0//EN
CALSCALE:GREGORIAN
METHOD:PUBLISH
X-ORIGINAL-URL:https://www.teatrotaveiro.com
X-WR-CALDESC:Eventos para Loucomotiva - Grupo de Teatro de Taveiro
REFRESH-INTERVAL;VALUE=DURATION:PT1H
X-Robots-Tag:noindex
X-PUBLISHED-TTL:PT1H
BEGIN:VTIMEZONE
TZID:Europe/Lisbon
BEGIN:DAYLIGHT
TZOFFSETFROM:+0000
TZOFFSETTO:+0100
TZNAME:WEST
DTSTART:20220327T010000
END:DAYLIGHT
BEGIN:STANDARD
TZOFFSETFROM:+0100
TZOFFSETTO:+0000
TZNAME:WET
DTSTART:20221030T010000
END:STANDARD
BEGIN:DAYLIGHT
TZOFFSETFROM:+0000
TZOFFSETTO:+0100
TZNAME:WEST
DTSTART:20230326T010000
END:DAYLIGHT
BEGIN:STANDARD
TZOFFSETFROM:+0100
TZOFFSETTO:+0000
TZNAME:WET
DTSTART:20231029T010000
END:STANDARD
BEGIN:DAYLIGHT
TZOFFSETFROM:+0000
TZOFFSETTO:+0100
TZNAME:WEST
DTSTART:20240331T010000
END:DAYLIGHT
BEGIN:STANDARD
TZOFFSETFROM:+0100
TZOFFSETTO:+0000
TZNAME:WET
DTSTART:20241027T010000
END:STANDARD
END:VTIMEZONE
BEGIN:VEVENT
DTSTART;TZID=Europe/Lisbon:20231014T213000
DTEND;TZID=Europe/Lisbon:20231014T224000
DTSTAMP:20260424T001955
CREATED:20230925T222925Z
LAST-MODIFIED:20231010T183104Z
UID:16326-1697319000-1697323200@www.teatrotaveiro.com
SUMMARY:Fica-te Mal
DESCRIPTION:Afonso Paiva apresenta o seu terceiro espectáculo de humor a solo\, em Coimbra. Este espectáculo de stand-up comedy dá pelo nome de ‘Fica-te mal’\, uma expressão muito utilizada por idosos. Na verdade\, a avó de Afonso muitas vezes lhe dizia\, aquando de comentários e atitudes desajustadas: “netinho\, isso fica-te mal”. Não foi pela sua avó que surgiu a ideia de realizar este evento\, mas a família\, a vida\, a morte e a inexorabilidade do tempo que passa foram todos temas que inspiraram a sua criação. Não esperem\, contudo\, um tratamento filosófico e super erudito de temas tão queridos à literatura e às outras artes. Essencialmente\, este comediante conimbricense irá dizer parvoíces para vos fazer rir. Por isso\, neste evento de stand-up comedy poderão conhecer as suas melhores piadas dos últimos tempos\, incluindo imitações e outras surpresas. Num misto entre fanfarronice e ‘cromice’\, Afonso Paiva transporta situações da sua vida para a comédia e da comédia para a sua vida (já por si caricata). Neste este solo de humor\, Afonso constrói uma narrativa de diversas coisas que lhe ficam mal (pensar\, dizer e fazer). No teatro Loucomotiva em Coimbra\, a máquina cómica vai andar a todo o vapor em duas datas distintas: 14 e 21 de Outubro. Escolham uma destas estações temporais e viajem connosco neste comboio do riso… Bem\, já chega desta analogia ferroviária algo forçada. Está feito o apelo. Se quiserem fica de fora\, estão no vosso direito… Mas fica-vos mal. \nRESERVAS: https://eventbuddy.pt/promoter/motivosalternativos/ \nBilhete Geral: € 10
URL:https://www.teatrotaveiro.com/evento/fica-te-mal/
LOCATION:Teatro Taveiro\, Rua Nova da Estação\, nº 50\, Taveiro\, 3045-488 Coimbra
CATEGORIES:Stand up Comedy
ATTACH;FMTTYPE=image/jpeg:https://www.teatrotaveiro.com/wp-content/uploads/2023/09/Fica-te-mal.jpeg
ORGANIZER;CN="Loucomotiva":MAILTO:producao@teatrotaveiro.com
END:VEVENT
END:VCALENDAR