BEGIN:VCALENDAR
VERSION:2.0
PRODID:-//Loucomotiva - Grupo de Teatro de Taveiro - ECPv6.15.20//NONSGML v1.0//EN
CALSCALE:GREGORIAN
METHOD:PUBLISH
X-ORIGINAL-URL:https://www.teatrotaveiro.com
X-WR-CALDESC:Eventos para Loucomotiva - Grupo de Teatro de Taveiro
REFRESH-INTERVAL;VALUE=DURATION:PT1H
X-Robots-Tag:noindex
X-PUBLISHED-TTL:PT1H
BEGIN:VTIMEZONE
TZID:Europe/Lisbon
BEGIN:DAYLIGHT
TZOFFSETFROM:+0000
TZOFFSETTO:+0100
TZNAME:WEST
DTSTART:20230326T010000
END:DAYLIGHT
BEGIN:STANDARD
TZOFFSETFROM:+0100
TZOFFSETTO:+0000
TZNAME:WET
DTSTART:20231029T010000
END:STANDARD
BEGIN:DAYLIGHT
TZOFFSETFROM:+0000
TZOFFSETTO:+0100
TZNAME:WEST
DTSTART:20240331T010000
END:DAYLIGHT
BEGIN:STANDARD
TZOFFSETFROM:+0100
TZOFFSETTO:+0000
TZNAME:WET
DTSTART:20241027T010000
END:STANDARD
BEGIN:DAYLIGHT
TZOFFSETFROM:+0000
TZOFFSETTO:+0100
TZNAME:WEST
DTSTART:20250330T010000
END:DAYLIGHT
BEGIN:STANDARD
TZOFFSETFROM:+0100
TZOFFSETTO:+0000
TZNAME:WET
DTSTART:20251026T010000
END:STANDARD
BEGIN:DAYLIGHT
TZOFFSETFROM:+0000
TZOFFSETTO:+0100
TZNAME:WEST
DTSTART:20260329T010000
END:DAYLIGHT
BEGIN:STANDARD
TZOFFSETFROM:+0100
TZOFFSETTO:+0000
TZNAME:WET
DTSTART:20261025T010000
END:STANDARD
END:VTIMEZONE
BEGIN:VEVENT
DTSTART;TZID=Europe/Lisbon:20240517T213000
DTEND;TZID=Europe/Lisbon:20250517T223000
DTSTAMP:20260422T234832
CREATED:20250508T075948Z
LAST-MODIFIED:20250508T080031Z
UID:16787-1715981400-1747521000@www.teatrotaveiro.com
SUMMARY:Joca Denso | Stand-up Comedy
DESCRIPTION:DENSO não é só um solo de stand-up.\nÉ a comédia crua\, sem filtros\, onde a piadas entram onde dói!\nDENSO é bruto\, direto\, agressivo\, parvo\, e muitas vezes emocional e profundo\nNão aconselhado a pessoas de mente curta e tacanha.\nM/16\n\n\nLINK Bilhetes\nhttp://www.ticketline.sapo.pt/…/chiado-comedy-club…\nBilhete Geral: € 12
URL:https://www.teatrotaveiro.com/evento/joca-denso-stand-up-comedy/
LOCATION:Teatro Taveiro\, Rua Nova da Estação\, nº 50\, Taveiro\, 3045-488 Coimbra
CATEGORIES:Stand up Comedy
ATTACH;FMTTYPE=image/jpeg:https://www.teatrotaveiro.com/wp-content/uploads/2025/05/495477181_1250791017049753_5473660028314736595_n.jpg
ORGANIZER;CN="Loucomotiva":MAILTO:producao@teatrotaveiro.com
END:VEVENT
BEGIN:VEVENT
DTSTART;TZID=Europe/Lisbon:20250125T213000
DTEND;TZID=Europe/Lisbon:20250125T223000
DTSTAMP:20260422T234832
CREATED:20250106T204107Z
LAST-MODIFIED:20250106T205117Z
UID:16678-1737840600-1737844200@www.teatrotaveiro.com
SUMMARY:Standup Comedy
DESCRIPTION:É oficial: o STANDUP COMEDY está de volta ao Teatro Loucomotiva! \n\n O QUÊ? Standup Comedy com CONVIDADO SURPRESA\n\n QUANDO? 25 Janeiro\, 21h30\n\n ONDE? Teatro Loucomotiva\, Taveiro\, Coimbra\n\n COMO?  Bilhetes -> https://thelastseat.com/loucomotiva\n\nA CEO Produções traz um CONVIDADO SURPRESA: “um gajo do porto que nunca foi ao lingote”… Pegaste a pista?\nAgarra já os teus bilhetes\, para uma noite de gargalhadas do car*… Opá\, não convém escrever isto aqui.\n  \n  \n  \nBilhete Geral: € 6\nBilhete Formandos Loucomotiva | Menores de 12 anos: € 5
URL:https://www.teatrotaveiro.com/evento/modelo-3/
LOCATION:Teatro Taveiro\, Rua Nova da Estação\, nº 50\, Taveiro\, 3045-488 Coimbra
CATEGORIES:Stand up Comedy
ATTACH;FMTTYPE=image/jpeg:https://www.teatrotaveiro.com/wp-content/uploads/2025/01/472671668_1146586277470228_5411998870048499104_n-e1736196054755.jpg
ORGANIZER;CN="Loucomotiva":MAILTO:producao@teatrotaveiro.com
END:VEVENT
END:VCALENDAR