BEGIN:VCALENDAR
VERSION:2.0
PRODID:-//Loucomotiva - Grupo de Teatro de Taveiro - ECPv6.15.20//NONSGML v1.0//EN
CALSCALE:GREGORIAN
METHOD:PUBLISH
X-WR-CALNAME:Loucomotiva - Grupo de Teatro de Taveiro
X-ORIGINAL-URL:https://www.teatrotaveiro.com
X-WR-CALDESC:Eventos para Loucomotiva - Grupo de Teatro de Taveiro
REFRESH-INTERVAL;VALUE=DURATION:PT1H
X-Robots-Tag:noindex
X-PUBLISHED-TTL:PT1H
BEGIN:VTIMEZONE
TZID:Europe/Lisbon
BEGIN:DAYLIGHT
TZOFFSETFROM:+0000
TZOFFSETTO:+0100
TZNAME:WEST
DTSTART:20250330T010000
END:DAYLIGHT
BEGIN:STANDARD
TZOFFSETFROM:+0100
TZOFFSETTO:+0000
TZNAME:WET
DTSTART:20251026T010000
END:STANDARD
BEGIN:DAYLIGHT
TZOFFSETFROM:+0000
TZOFFSETTO:+0100
TZNAME:WEST
DTSTART:20260329T010000
END:DAYLIGHT
BEGIN:STANDARD
TZOFFSETFROM:+0100
TZOFFSETTO:+0000
TZNAME:WET
DTSTART:20261025T010000
END:STANDARD
BEGIN:DAYLIGHT
TZOFFSETFROM:+0000
TZOFFSETTO:+0100
TZNAME:WEST
DTSTART:20270328T010000
END:DAYLIGHT
BEGIN:STANDARD
TZOFFSETFROM:+0100
TZOFFSETTO:+0000
TZNAME:WET
DTSTART:20271031T010000
END:STANDARD
END:VTIMEZONE
BEGIN:VEVENT
DTSTART;TZID=Europe/Lisbon:20260221T140000
DTEND;TZID=Europe/Lisbon:20260221T170000
DTSTAMP:20260421T203254
CREATED:20260126T182144Z
LAST-MODIFIED:20260207T211631Z
UID:16941-1771682400-1771693200@www.teatrotaveiro.com
SUMMARY:WORKSHOP DE ACROBACIA PARA CENA | com Victor Abreu | ESGOTADO
DESCRIPTION:Acrobacia e teatro misturam-se ao longo da história das artes performativas. A figura dos saltimbancos é um exemplo disso\, eles eram conhecidos por suas incríveis habilidades acrobáticas e foram de grande importância na cultura popular da Europa. Os saltimbancos têm uma rica relação com o teatro\, especialmente teatro de comédia e mambembe. Com suas máscaras e trajes\, representavam emoções e situações humanas. É a partir deste imaginário que a oficina propõe um treinamento acrobático para atores e pessoas interessadas em explorar o universo das acrobacias com um olhar voltado para a cena e a expressão corporal.\n\n\n\nAshleigh Georgiou\n  \nValor Inscrição: 20€
URL:https://www.teatrotaveiro.com/evento/workshop-de-acrobacia-para-cena-com-victor-abreu/
LOCATION:Teatro Taveiro\, Rua Nova da Estação\, nº 50\, Taveiro\, 3045-488 Coimbra
CATEGORIES:Formação
ATTACH;FMTTYPE=image/jpeg:https://www.teatrotaveiro.com/wp-content/uploads/2026/01/Acrobacia.jpg
ORGANIZER;CN="Loucomotiva":MAILTO:producao@teatrotaveiro.com
END:VEVENT
END:VCALENDAR